BEGIN:VCALENDAR
VERSION:2.0
PRODID:-//HeyFla - ECPv6.15.20//NONSGML v1.0//EN
CALSCALE:GREGORIAN
METHOD:PUBLISH
X-ORIGINAL-URL:http://heyfla.com
X-WR-CALDESC:Events for HeyFla
REFRESH-INTERVAL;VALUE=DURATION:PT1H
X-Robots-Tag:noindex
X-PUBLISHED-TTL:PT1H
BEGIN:VTIMEZONE
TZID:America/Halifax
BEGIN:DAYLIGHT
TZOFFSETFROM:-0400
TZOFFSETTO:-0300
TZNAME:ADT
DTSTART:20140309T060000
END:DAYLIGHT
BEGIN:STANDARD
TZOFFSETFROM:-0300
TZOFFSETTO:-0400
TZNAME:AST
DTSTART:20141102T050000
END:STANDARD
BEGIN:DAYLIGHT
TZOFFSETFROM:-0400
TZOFFSETTO:-0300
TZNAME:ADT
DTSTART:20150308T060000
END:DAYLIGHT
BEGIN:STANDARD
TZOFFSETFROM:-0300
TZOFFSETTO:-0400
TZNAME:AST
DTSTART:20151101T050000
END:STANDARD
BEGIN:DAYLIGHT
TZOFFSETFROM:-0400
TZOFFSETTO:-0300
TZNAME:ADT
DTSTART:20160313T060000
END:DAYLIGHT
BEGIN:STANDARD
TZOFFSETFROM:-0300
TZOFFSETTO:-0400
TZNAME:AST
DTSTART:20161106T050000
END:STANDARD
END:VTIMEZONE
BEGIN:VEVENT
DTSTART;TZID=America/Halifax:20150817T080000
DTEND;TZID=America/Halifax:20150817T170000
DTSTAMP:20260425T073416
CREATED:20150817T205040Z
LAST-MODIFIED:20150817T205040Z
UID:5645-1439798400-1439830800@heyfla.com
SUMMARY:13th Annual Caribbean Health Summit
DESCRIPTION:13th Annual Caribbean Health Summit\n“Embrace Your Health”
URL:http://heyfla.com/event/13th-annual-caribbean-health-summit/
LOCATION:Central Florida Fair Grounds\, 4603 W. Colonial Drive\, Orlando\, FL\, 32808\, United States
CATEGORIES:Health & Wellness
END:VEVENT
END:VCALENDAR