BEGIN:VCALENDAR
VERSION:2.0
PRODID:-//HeyFla - ECPv6.15.20//NONSGML v1.0//EN
CALSCALE:GREGORIAN
METHOD:PUBLISH
X-WR-CALNAME:HeyFla
X-ORIGINAL-URL:http://heyfla.com
X-WR-CALDESC:Events for HeyFla
REFRESH-INTERVAL;VALUE=DURATION:PT1H
X-Robots-Tag:noindex
X-PUBLISHED-TTL:PT1H
BEGIN:VTIMEZONE
TZID:America/Halifax
BEGIN:DAYLIGHT
TZOFFSETFROM:-0400
TZOFFSETTO:-0300
TZNAME:ADT
DTSTART:20130310T060000
END:DAYLIGHT
BEGIN:STANDARD
TZOFFSETFROM:-0300
TZOFFSETTO:-0400
TZNAME:AST
DTSTART:20131103T050000
END:STANDARD
BEGIN:DAYLIGHT
TZOFFSETFROM:-0400
TZOFFSETTO:-0300
TZNAME:ADT
DTSTART:20140309T060000
END:DAYLIGHT
BEGIN:STANDARD
TZOFFSETFROM:-0300
TZOFFSETTO:-0400
TZNAME:AST
DTSTART:20141102T050000
END:STANDARD
BEGIN:DAYLIGHT
TZOFFSETFROM:-0400
TZOFFSETTO:-0300
TZNAME:ADT
DTSTART:20150308T060000
END:DAYLIGHT
BEGIN:STANDARD
TZOFFSETFROM:-0300
TZOFFSETTO:-0400
TZNAME:AST
DTSTART:20151101T050000
END:STANDARD
BEGIN:DAYLIGHT
TZOFFSETFROM:-0400
TZOFFSETTO:-0300
TZNAME:ADT
DTSTART:20160313T060000
END:DAYLIGHT
BEGIN:STANDARD
TZOFFSETFROM:-0300
TZOFFSETTO:-0400
TZNAME:AST
DTSTART:20161106T050000
END:STANDARD
BEGIN:DAYLIGHT
TZOFFSETFROM:-0400
TZOFFSETTO:-0300
TZNAME:ADT
DTSTART:20170312T060000
END:DAYLIGHT
BEGIN:STANDARD
TZOFFSETFROM:-0300
TZOFFSETTO:-0400
TZNAME:AST
DTSTART:20171105T050000
END:STANDARD
BEGIN:DAYLIGHT
TZOFFSETFROM:-0400
TZOFFSETTO:-0300
TZNAME:ADT
DTSTART:20180311T060000
END:DAYLIGHT
BEGIN:STANDARD
TZOFFSETFROM:-0300
TZOFFSETTO:-0400
TZNAME:AST
DTSTART:20181104T050000
END:STANDARD
END:VTIMEZONE
BEGIN:VEVENT
DTSTART;TZID=America/Halifax:20170422T203000
DTEND;TZID=America/Halifax:20170422T220000
DTSTAMP:20260422T151015
CREATED:20170320T142101Z
LAST-MODIFIED:20170203T020000Z
UID:6177-1492893000-1492898400@heyfla.com
SUMMARY:Todrick Hall Presents: Straight Outta Oz
DESCRIPTION:Todrick Hall Presents: Straight Outta Oz Tour\nTodrick Hall Presents… \n  \nStraight Outta Oz is Todrick Hall‘s adaptation of L. Frank Baum‘s classic tale. It tells the story of a Hall’s journey from his small hometown in Texas to his journey to “Oz Angeles”. Expect to be dazzled by the performances by Hall and his ensemble cast. Watch the Trailer for the upcoming show here. Tickets on sale now.
URL:http://heyfla.com/event/todrick-hall-presents-straight-outta-oz/
LOCATION:Parker Playhouse\, 707 NE 8th St.\, Fort Lauderdale\, FL\, 33304\, United States
CATEGORIES:Theater
ATTACH;FMTTYPE=image/jpeg:http://heyfla.com/wp-content/uploads/2017/02/06_seatingcharts.jpg
END:VEVENT
BEGIN:VEVENT
DTSTART;TZID=America/Halifax:20170225T193000
DTEND;TZID=America/Halifax:20170225T213000
DTSTAMP:20260422T151015
CREATED:20170203T022620Z
LAST-MODIFIED:20170203T025432Z
UID:6190-1488051000-1488058200@heyfla.com
SUMMARY:Vicki Lawrence & Mama: A Two Woman Show
DESCRIPTION:Vicki Lawrence & Mama: A Two Woman Show\n \nEmmy Award – winning comedienne Vicki Lawrence is one of the most beloved television personalities of her generation. Plucked out of total obscurity as a high school senior\, Vicki went on to become part of the now-legendary cast of the “Carol Burnett Show.” \nIn the seventh season\, and hundreds of hilarious sketches later\, at the ripe\, old age of 24\, Vicki created her most endearing character to date\, Thelma Harper\, or “Mama” as she is better known to her fans. After the Burnett Show\, Vicki went on to star in “Mama’s Family\,” which consistently topped the ratings for its entire six-year run of original shows. “Mama” has attained almost a cult status among her legions of loyal television viewers. \nIn 2001\, Ms. Lawrence decided that the time is right to take Mama out of the closet\, dust off her sensible shoes and hit the road with her new touring production\, Vicki Lawrence and Mama: A Two-Woman Show. (source: Thrasher_Horne Center for the Arts) \n  \nParking is free
URL:http://heyfla.com/event/vicki-lawrence-mama-two-woman-show/
LOCATION:Thrasher-Horne Center\, 283 College Drive\,  Orange Park\, FL\, 32065\, United States
CATEGORIES:Theater
ATTACH;FMTTYPE=image/jpeg:http://heyfla.com/wp-content/uploads/2017/02/Thrasher-HorneCenterviewfromstage_zps1328272e.jpg
END:VEVENT
BEGIN:VEVENT
DTSTART;TZID=America/Halifax:20161105T140000
DTEND;TZID=America/Halifax:20161105T160000
DTSTAMP:20260422T151015
CREATED:20161101T014920Z
LAST-MODIFIED:20161101T020739Z
UID:6152-1478354400-1478361600@heyfla.com
SUMMARY:Dr. Jekyll and Mr. Hyde 2016 at Goldman Theater
DESCRIPTION:Dr. Jekyll and Mr. Hyde 2016 | Orlando Shakes\nhttp://orlandoshakes.org/shows/dr-jekyll-mr-hyde/ \nOrlando Shakespeare Theater presents Dr. Jekyll and Mr. Hyde 2016 season. Dr. Henry Jekyll is a brilliant scientist frustrated by dull “respectable” life in 1888 Victorian London. He creates a potion to unleash his inner bestial nature\, transforming him into the brutish but eerily endearing Edward Hyde. Hyde lives the high life while Jekyll’s mundane doctoral career continues — until Hyde’s passions begin to turn up a body count. Equal parts thrilling and deviant\, Dr. Jekyll and Mr. Hyde will captivate those brave enough to step into Dr. Jekyll’s laboratory.
URL:http://heyfla.com/event/dr-jekyll-mr-hyde-2016/
LOCATION:FL
CATEGORIES:Theater
ATTACH;FMTTYPE=image/png:http://heyfla.com/wp-content/uploads/2016/10/DJMH.png
END:VEVENT
BEGIN:VEVENT
DTSTART;TZID=America/Halifax:20140513T080000
DTEND;TZID=America/Halifax:20140518T223000
DTSTAMP:20260422T151015
CREATED:20140419T223206Z
LAST-MODIFIED:20140419T224012Z
UID:5349-1399968000-1400452200@heyfla.com
SUMMARY:Ghost The Musical
DESCRIPTION:Ghost The Musical at Bob Car Performing Arts Centre this May. For more information or purchase tickets follow this link \n \n 
URL:http://heyfla.com/event/ghost-musical/
LOCATION:Bob Carr Performing Arts Centre\, 401 West Livingston Street\, Orlando\, FL\, 32801\, United States
CATEGORIES:Theater
ATTACH;FMTTYPE=image/jpeg:http://heyfla.com/wp-content/uploads/2014/04/ghost-musical.jpeg
END:VEVENT
END:VCALENDAR