BEGIN:VCALENDAR
VERSION:2.0
PRODID:-//HeyFla - ECPv6.15.20//NONSGML v1.0//EN
CALSCALE:GREGORIAN
METHOD:PUBLISH
X-WR-CALNAME:HeyFla
X-ORIGINAL-URL:http://heyfla.com
X-WR-CALDESC:Events for HeyFla
REFRESH-INTERVAL;VALUE=DURATION:PT1H
X-Robots-Tag:noindex
X-PUBLISHED-TTL:PT1H
BEGIN:VTIMEZONE
TZID:America/Halifax
BEGIN:DAYLIGHT
TZOFFSETFROM:-0400
TZOFFSETTO:-0300
TZNAME:ADT
DTSTART:20120311T060000
END:DAYLIGHT
BEGIN:STANDARD
TZOFFSETFROM:-0300
TZOFFSETTO:-0400
TZNAME:AST
DTSTART:20121104T050000
END:STANDARD
BEGIN:DAYLIGHT
TZOFFSETFROM:-0400
TZOFFSETTO:-0300
TZNAME:ADT
DTSTART:20130310T060000
END:DAYLIGHT
BEGIN:STANDARD
TZOFFSETFROM:-0300
TZOFFSETTO:-0400
TZNAME:AST
DTSTART:20131103T050000
END:STANDARD
BEGIN:DAYLIGHT
TZOFFSETFROM:-0400
TZOFFSETTO:-0300
TZNAME:ADT
DTSTART:20140309T060000
END:DAYLIGHT
BEGIN:STANDARD
TZOFFSETFROM:-0300
TZOFFSETTO:-0400
TZNAME:AST
DTSTART:20141102T050000
END:STANDARD
BEGIN:DAYLIGHT
TZOFFSETFROM:-0400
TZOFFSETTO:-0300
TZNAME:ADT
DTSTART:20150308T060000
END:DAYLIGHT
BEGIN:STANDARD
TZOFFSETFROM:-0300
TZOFFSETTO:-0400
TZNAME:AST
DTSTART:20151101T050000
END:STANDARD
END:VTIMEZONE
BEGIN:VEVENT
DTSTART;TZID=America/Halifax:20140428T080000
DTEND;TZID=America/Halifax:20140428T220000
DTSTAMP:20260423T175905
CREATED:20140422T184110Z
LAST-MODIFIED:20140419T230604Z
UID:5352-1398672000-1398722400@heyfla.com
SUMMARY:Lana Del Rey
DESCRIPTION:Lana Del Rey at Hard Rock Live Orlando\nIn concert\, April 28\, 2014 at Hard Rock Live! Orlando is sultry songstress Lana Del Rey. Check out the video for her latest single West Coast
URL:http://heyfla.com/event/lana-del-rey/
LOCATION:Hard Rock Live Orlando\, 6050 Universal Blvd\, Orlando\, FL\, 32819\, United States
CATEGORIES:Live Music
ATTACH;FMTTYPE=image/jpeg:http://heyfla.com/wp-content/uploads/2014/04/lanadelrey.jpeg
END:VEVENT
BEGIN:VEVENT
DTSTART;TZID=America/Halifax:20140427T120000
DTEND;TZID=America/Halifax:20140427T190000
DTSTAMP:20260423T175905
CREATED:20140418T231455Z
LAST-MODIFIED:20140418T231654Z
UID:5322-1398600000-1398625200@heyfla.com
SUMMARY:Caribbean Fusion Festival
DESCRIPTION:The Caribbean and Floridian Association\, Inc. (CAFA) will be hosting the 20th Annual Caribbean Fusion on Sunday\, April 27\, 2014 at the Kissimmee Lakefront Park.  Festivities kick off at noon. Food\, games\, live music\, and much more.
URL:http://heyfla.com/event/caribbean-fusion-festival/
LOCATION:Kissimmee Lakefront Park\, 320 E. Monument Avenue\, Kissimmee\, FL\, 34741\, United States
ATTACH;FMTTYPE=image/png:http://heyfla.com/wp-content/uploads/2014/04/cafabillboardfinal.png
END:VEVENT
BEGIN:VEVENT
DTSTART;TZID=America/Halifax:20140425T070000
DTEND;TZID=America/Halifax:20140425T233000
DTSTAMP:20260423T175905
CREATED:20140419T185504Z
LAST-MODIFIED:20140419T192321Z
UID:5343-1398409200-1398468600@heyfla.com
SUMMARY:Darius Rucker: True Believers Tour
DESCRIPTION:Darius Rucker: True Believers Tour\nSee Darius Rucker at the Donald L. Tucker Civic Center April 25th along with the Eli Young Band & Corey Smith \n \nCheck out more Florida dates here
URL:http://heyfla.com/event/darius-rucker-in-tallahassee/
LOCATION:Donald L. Tucker Civic Center\, 505 W Pensacola Street\, Tallahassee\, FL\, 32302\, United States
CATEGORIES:concerts
ATTACH;FMTTYPE=image/jpeg:http://heyfla.com/wp-content/uploads/2014/04/Darius-Rucker-Eli-Young-Band-Site-Banner.jpg
END:VEVENT
BEGIN:VEVENT
DTSTART;TZID=America/Halifax:20140424T190000
DTEND;TZID=America/Halifax:20140424T233000
DTSTAMP:20260423T175905
CREATED:20140419T183856Z
LAST-MODIFIED:20140419T183856Z
UID:5341-1398366000-1398382200@heyfla.com
SUMMARY:Darius Rucker: True Believers Tour
DESCRIPTION:Darius Rucker: True Believer’s Tour\nSee Darius Rucker at the CFE Arena April 24 along with the Eli Young Band & Corey Smith \n \nCheck out more Florida dates here
URL:http://heyfla.com/event/darius-rucker-in-orlando/
LOCATION:CFE Arena\, 2777 Gemini Blvd\, Orlando\, FL\, 32816\, United States
CATEGORIES:concerts
ATTACH;FMTTYPE=image/jpeg:http://heyfla.com/wp-content/uploads/2014/04/Darius-Rucker-Eli-Young-Band-Site-Banner.jpg
END:VEVENT
BEGIN:VEVENT
DTSTART;TZID=America/Halifax:20140420T200000
DTEND;TZID=America/Halifax:20140420T230000
DTSTAMP:20260423T175905
CREATED:20140419T174741Z
LAST-MODIFIED:20140419T182208Z
UID:5333-1398024000-1398034800@heyfla.com
SUMMARY:Kendrick Lamar
DESCRIPTION:Kendrick Lamar in Concert\n \nTickets on sale now. Still seats left
URL:http://heyfla.com/event/kendrick-lamar/
LOCATION:CFE Arena\, 2777 Gemini Blvd\, Orlando\, FL\, 32816\, United States
CATEGORIES:concerts
ATTACH;FMTTYPE=image/jpeg:http://heyfla.com/wp-content/uploads/2014/04/1194669-Kendrick-Lamar-617x409-2.jpg
END:VEVENT
BEGIN:VEVENT
DTSTART;TZID=America/Halifax:20140419T193500
DTEND;TZID=America/Halifax:20140419T210000
DTSTAMP:20260423T175905
CREATED:20140419T172622Z
LAST-MODIFIED:20140419T173318Z
UID:5330-1397936100-1397941200@heyfla.com
SUMMARY:Orlando Predators vs. Tampa Bay Storm
DESCRIPTION:Orlando Predators vs. Tampa Bay Storm\nArena Football at CFE Arena. Are you going to the game? \n 
URL:http://heyfla.com/event/orlando-predators-vs-tampa-bay-storm/
LOCATION:CFE Arena\, 2777 Gemini Blvd\, Orlando\, FL\, 32816\, United States
CATEGORIES:sporting events
ATTACH;FMTTYPE=image/png:http://heyfla.com/wp-content/uploads/2014/04/predatorprimary.5.0.pc_.png
END:VEVENT
BEGIN:VEVENT
DTSTART;TZID=America/Halifax:20140314T160000
DTEND;TZID=America/Halifax:20140316T220000
DTSTAMP:20260423T175905
CREATED:20131003T192725Z
LAST-MODIFIED:20131003T192959Z
UID:5260-1394812800-1395007200@heyfla.com
SUMMARY:9th Annual Jazz in the Gardens
DESCRIPTION:
URL:http://heyfla.com/event/9th-annual-jazz-gardens/
LOCATION:Sun Life Stadium\, 2269 NW 199th St\, Miami Gardens\, FL\, 33056\, United States
CATEGORIES:festival
ORGANIZER;CN="City of Miami Gardens":MAILTO:ula@jazzinthegardens.com
END:VEVENT
BEGIN:VEVENT
DTSTART;TZID=America/Halifax:20131116T100000
DTEND;TZID=America/Halifax:20131116T150000
DTSTAMP:20260423T175905
CREATED:20131105T213013Z
LAST-MODIFIED:20131105T213013Z
UID:5287-1384596000-1384614000@heyfla.com
SUMMARY:Mayor Jacob's Fall Festival: Battle of the Bands
DESCRIPTION:Orange County Mayor Theresa Jacob will host the 1st annual Employee Fall Festival November 16th at Barnett Park in Orlando\, FL.
URL:http://heyfla.com/event/mayor-jacobs-fall-festival-battle-bands/
LOCATION:Barnett Park\, 4801 W Colonial Dr.\, Orlando\, FL\, 32808\, United States
CATEGORIES:festival
END:VEVENT
BEGIN:VEVENT
DTSTART;TZID=America/Halifax:20131027T103000
DTEND;TZID=America/Halifax:20131027T150000
DTSTAMP:20260423T175905
CREATED:20131021T153150Z
LAST-MODIFIED:20131021T154037Z
UID:5274-1382869800-1382886000@heyfla.com
SUMMARY:Kirk Franklin presents Gospel Brunch
DESCRIPTION:Grammy Award winning star Kirk Franklin is joining forces with House of Blues as part of its year-long 20th Anniversary Celebration to produce a dazzling transformation of Gospel Brunch\, the clubs legendary dining and live music show. With Kirk Franklins hand-picked performers showcasing explosive energy\, contemporary music and spectacular new cuisine\, it’s an unforgettable spectacle of great tunes and tastes. A portion of the proceeds will be donated to the IHOBF\, providing arts and music support to underserved youth. For more information on how your proceeds are being used\, please www.IHOBF.org. \n  \nEvent takes place at 10:30am and 1:00pm Sunday October 27th\, 2013.
URL:http://heyfla.com/event/kirk-franklin-presents-gospel-brunch/
LOCATION:House of Blues Orlando\, 1490 E. Buena Vista Dr.\, Lake Buena\, FL\, 32830\, United States
CATEGORIES:concerts
ATTACH;FMTTYPE=image/jpeg:http://heyfla.com/wp-content/uploads/2013/10/event_78819.jpg
END:VEVENT
BEGIN:VEVENT
DTSTART;TZID=America/Halifax:20131011T170000
DTEND;TZID=America/Halifax:20131012T220000
DTSTAMP:20260423T175905
CREATED:20131003T201130Z
LAST-MODIFIED:20131003T201441Z
UID:5266-1381510800-1381615200@heyfla.com
SUMMARY:Oktoberfest - Avalon Park Downtown East Orlando
DESCRIPTION:
URL:http://heyfla.com/event/oktoberfest-avalon-park-downtown-east-orlando/
LOCATION:Avalon Park Downtown East Orlando\, Orlando\, FL\, 32828\, United States
CATEGORIES:festival
END:VEVENT
BEGIN:VEVENT
DTSTART;TZID=America/Halifax:20131005T110000
DTEND;TZID=America/Halifax:20131005T220000
DTSTAMP:20260423T175905
CREATED:20131003T194622Z
LAST-MODIFIED:20131003T194622Z
UID:5263-1380970800-1381010400@heyfla.com
SUMMARY:Harbor Sounds Music Fest on Main
DESCRIPTION:Come hear the live music that will be featured on Main Street stages throughout the day and evening. Browse among the craft vendors and shops.
URL:http://heyfla.com/event/harbor-sounds-music-fest-main/
LOCATION:Main Street\, Safety Harbor \, FL\, United States
CATEGORIES:festival
END:VEVENT
BEGIN:VEVENT
DTSTART;TZID=America/Halifax:20130915T160500
DTEND;TZID=America/Halifax:20130915T180000
DTSTAMP:20260423T175905
CREATED:20130620T190308Z
LAST-MODIFIED:20130620T190308Z
UID:5198-1379261100-1379268000@heyfla.com
SUMMARY:Tampa Bay Buccaneers vs. New Orleans Saints
DESCRIPTION:Tampa Bay Buccaneers vs. New Orleans Saints\n 
URL:http://heyfla.com/event/tampa-bay-buccaneers-vs-new-orleans-saints/
LOCATION:Raymond James Stadium\, 4201 North Dale Mabry Highway\, Tampa Bay\, FL\, 33607\, United States
CATEGORIES:sporting events
ATTACH;FMTTYPE=image/jpeg:http://heyfla.com/wp-content/uploads/2013/06/bucs-logo.jpg
END:VEVENT
BEGIN:VEVENT
DTSTART;TZID=America/Halifax:20130914T200000
DTEND;TZID=America/Halifax:20130914T230000
DTSTAMP:20260423T175905
CREATED:20130802T125534Z
LAST-MODIFIED:20130802T130950Z
UID:5249-1379188800-1379199600@heyfla.com
SUMMARY:What Dreams May Come Tour
DESCRIPTION:J. Cole: What Dreams May Come Tour\nThe final stop in Florida before heading to Augusta\, GA.  The What Dreams May Come Tour stops in Jacksonville for a peformance at the Moran Theater. \nCheck out our calendar for information on more events in Florida
URL:http://heyfla.com/event/what-dreams-may-come-tour/
LOCATION:Times Union Center for the Performing Arts Moran Theater\, 300 West Water Street\, Jacksonville\, FL\, 32202\, United States
CATEGORIES:concerts
ATTACH;FMTTYPE=image/jpeg:http://heyfla.com/wp-content/uploads/2013/08/JCOLE-ROC-NATION.jpg
END:VEVENT
BEGIN:VEVENT
DTSTART;TZID=America/Halifax:20130913T200000
DTEND;TZID=America/Halifax:20130913T230000
DTSTAMP:20260423T175905
CREATED:20130802T132230Z
LAST-MODIFIED:20130802T132230Z
UID:5255-1379102400-1379113200@heyfla.com
SUMMARY:What Dreams May Come Tour
DESCRIPTION:J. Cole: What Dreams May Come Tour\nthe J. Cole: What Dreams May Come Tour pulls into Tampa at the David A. Straz\, Jr.  Center for the Performing Arts for a 8pm showtime.  J. Cole will be accompanied by hip hop veteran Wale. \n  \nCheck out our calendar for information on more events in Florida
URL:http://heyfla.com/event/what-dreams-may-come-tour-3/
LOCATION:David A. Straz\, Jr. Center for the Performing Arts\, 1010 North W.C. MacInnes Place\, Tampa\, FL\, 33602\, United States
CATEGORIES:concerts
ATTACH;FMTTYPE=image/jpeg:http://heyfla.com/wp-content/uploads/2013/08/JCOLE-ROC-NATION.jpg
END:VEVENT
BEGIN:VEVENT
DTSTART;TZID=America/Halifax:20130912T200000
DTEND;TZID=America/Halifax:20130912T230000
DTSTAMP:20260423T175905
CREATED:20130802T121823Z
LAST-MODIFIED:20130802T130818Z
UID:5242-1379016000-1379026800@heyfla.com
SUMMARY:J. Cole: What Dreams May Come Tour
DESCRIPTION:J. Cole: What Dream May Come Tour\nHard Rock Live Orlando is the second stop of the J. Cole: What Dreams May Come Tour.  J. Cole will be accompanied by Wale of May Bach Music Group. \nCheck out our calendar for information on more events in Florida
URL:http://heyfla.com/event/j-cole-what-dreams-may-come-tour/
LOCATION:Hard Rock Live Orlando\, 6050 Universal Blvd\, Orlando\, FL\, 32819\, United States
CATEGORIES:concerts
ATTACH;FMTTYPE=image/jpeg:http://heyfla.com/wp-content/uploads/2013/08/JCOLE-ROC-NATION.jpg
END:VEVENT
BEGIN:VEVENT
DTSTART;TZID=America/Halifax:20130910T193000
DTEND;TZID=America/Halifax:20130910T230000
DTSTAMP:20260423T175905
CREATED:20130802T130017Z
LAST-MODIFIED:20130802T130614Z
UID:5248-1378841400-1378854000@heyfla.com
SUMMARY:What Dreams May Come Tour
DESCRIPTION:J. Cole: What Dreams May Come Tour\nThe J. Cole: What Dreams May Come Tour kicks off in Miami\, FL at James L. Knight Center on September 10\, 2013.  The tour will feature fellow rapper Wale. \nNote: There is a $10 charge for parking at the Miami Tower (formerly the Bank of America building) \nCheck out our calendar for information on more events in Florida
URL:http://heyfla.com/event/what-dreams-may-come-tour-2/
LOCATION:James L. Knight Center\, 400 SE 2nd Ave\, Miami\, FL\, 33131\, United States
CATEGORIES:concerts
ATTACH;FMTTYPE=image/jpeg:http://heyfla.com/wp-content/uploads/2013/08/JCOLE-ROC-NATION.jpg
END:VEVENT
BEGIN:VEVENT
DTSTART;TZID=America/Halifax:20130818T080000
DTEND;TZID=America/Halifax:20130818T220000
DTSTAMP:20260423T175905
CREATED:20130725T201904Z
LAST-MODIFIED:20130725T223454Z
UID:5227-1376812800-1376863200@heyfla.com
SUMMARY:End of Summer Lime
DESCRIPTION:End of Summer Lime\nAll Inclusive Family Event @ Siesta Key Beach\, FL\n  \n  \nWe Run Dat Ent? is hosting a day trip from Orlando and Tampa heading to Siesta Key Beach.
URL:http://heyfla.com/event/end-of-summer-lime/
LOCATION:Siesta Key Beach\, Sarasota\, FL\, United States
CATEGORIES:day trip,Travel
ATTACH;FMTTYPE=image/jpeg:http://heyfla.com/wp-content/uploads/2013/07/WE-LOGO-blk-bkg.jpg
END:VEVENT
BEGIN:VEVENT
DTSTART;TZID=America/Halifax:20130809T073000
DTEND;TZID=America/Halifax:20130809T170000
DTSTAMP:20260423T175905
CREATED:20130730T121122Z
LAST-MODIFIED:20130730T171101Z
UID:5236-1376033400-1376067600@heyfla.com
SUMMARY:Jacksonville Jaguars vs Miami Dolphins
DESCRIPTION:Jacksonville Jaguars vs Miami Dolphins
URL:http://heyfla.com/event/jacksonville-jaguars-vs-miami-dolphins/
LOCATION:EverBank Field\, One EverBank Field Drive\, Jacksonveill\, FL\, 32202\, United States
CATEGORIES:sporting events
ATTACH;FMTTYPE=image/jpeg:http://heyfla.com/wp-content/uploads/2013/07/J-Jaguars.jpg
END:VEVENT
BEGIN:VEVENT
DTSTART;TZID=America/Halifax:20130808T193000
DTEND;TZID=America/Halifax:20130815T213000
DTSTAMP:20260423T175905
CREATED:20130621T201356Z
LAST-MODIFIED:20130620T201823Z
UID:5204-1375990200-1376602200@heyfla.com
SUMMARY:Tampa Bay Buccaneers vs Baltimore Ravens
DESCRIPTION:Tampa Bay Buccaneers vs Baltimore Ravens\nTickets go on sale 10:00am July 15\, 2013
URL:http://heyfla.com/event/tampa-bay-buccaneers-vs-baltimore-ravens/
LOCATION:Raymond James Stadium\, 4201 N Dale Mabry Hwy\, Tampa Bay\, FL\, 33607\, United States
CATEGORIES:sporting events
ATTACH;FMTTYPE=image/jpeg:http://heyfla.com/wp-content/uploads/2013/06/bucs-logo.jpg
END:VEVENT
BEGIN:VEVENT
DTSTART;TZID=America/Halifax:20130803T073000
DTEND;TZID=America/Halifax:20130803T220000
DTSTAMP:20260423T175905
CREATED:20130725T204016Z
LAST-MODIFIED:20130725T204848Z
UID:5232-1375515000-1375567200@heyfla.com
SUMMARY:Orlando City Lions vs Pittsburg Riverhounds
DESCRIPTION:Orlando City Lions vs Pittsburg Riverhounds\nOrlando City Soccer Club next home game takes place August 3\, 2013 at the Florida Citrus Bowl vs the Pittsburg Riverhounds.  Come watch the 12-3 lions attempt to add another W to their win column.
URL:http://heyfla.com/event/orlando-city-lions-vs-pittsburg-riverhounds/
LOCATION:Florida Citrus Bowl\, 1 Citrus Bowl Place\, Orlando\, 32805\, United States
CATEGORIES:sporting events
ATTACH;FMTTYPE=image/jpeg:http://heyfla.com/wp-content/uploads/2013/07/Orlando_City_Crest_updated_16.jpg
END:VEVENT
BEGIN:VEVENT
DTSTART;TZID=America/Halifax:20130706T200000
DTEND;TZID=America/Halifax:20130706T230000
DTSTAMP:20260423T175905
CREATED:20130702T234939Z
LAST-MODIFIED:20130702T234939Z
UID:5221-1373140800-1373151600@heyfla.com
SUMMARY:TGT Tour: Tyrese\, Ginuwine and Tank
DESCRIPTION:TGT Tour: Tyrese\, Ginuwine and Tank in Concert\nThe TGT Tour featuring Tyrese\, Ginuwine and Tank\, stops at the Bob Carr Performing Arts Centre on July 6! Don’t miss three of R&B’s most successful male artists when they come to Orlando for their only Central Florida performance.
URL:http://heyfla.com/event/tgt-tour/
LOCATION:Bob Carr Performing Arts Centre\, 401 West Livingston Street\, Orlando\, FL\, 32801\, United States
ATTACH;FMTTYPE=image/jpeg:http://heyfla.com/wp-content/uploads/2013/07/146880a.jpg
END:VEVENT
BEGIN:VEVENT
DTSTART;TZID=America/Halifax:20130531T160000
DTEND;TZID=America/Halifax:20130602T120000
DTSTAMP:20260423T175905
CREATED:20130530T002758Z
LAST-MODIFIED:20130530T002758Z
UID:5170-1370016000-1370174400@heyfla.com
SUMMARY:Kissimmee Blue Skies Silver Spurs Festival
DESCRIPTION:Kissimmee Blue Skies Silver Spurs Festival\nFour events in one.  Too much fun to miss out on. \nThe Blue Skies Balloon festival and Blue Skies Adventure Race are located in the Formosa Gardens area at 7836 W Irlo Bronson Memorial Hwy Kissimmee\, FL 34747. The Endless Summer Songwriters Festival and Silver Spurs Rodeo will be held at Osceola Heritage Park at 1875 Silver Spur Ln Kissimmee\, FL 34744. The travel time between these two locations is approximately 30 minutes. Both locations are located on US Highway 192. To get to Osceola Heritage Park from the Formosa Gardens area\, head east on US Highway 192. Visitors must provide their own transportation in between the two venues.
URL:http://heyfla.com/event/kissimmee-blue-skies-silver-spurs-festival/
LOCATION:Osceola Heritage Park\, 1875 Silver Spur Ln\, Kissimmee\, FL\, 34744\, United States
CATEGORIES:festival
ATTACH;FMTTYPE=image/jpeg:http://heyfla.com/wp-content/uploads/2013/05/kcvb-bsss-logo.jpg
ORGANIZER;CN="Experience Kissimmee":MAILTO:eventservices@experiencekissimmee.com
END:VEVENT
BEGIN:VEVENT
DTSTART;TZID=America/Halifax:20130511T120000
DTEND;TZID=America/Halifax:20130511T180000
DTSTAMP:20260423T175905
CREATED:20130322T183604Z
LAST-MODIFIED:20130322T183604Z
UID:5144-1368273600-1368295200@heyfla.com
SUMMARY:PAAD Cultural Festival of Light at Hankins Park Mother's Day Weekend
DESCRIPTION:The PAAD Cultural Festival of Light\nPartnership for American African Development\, Inc Presents…\nThe Cultural Festival of Light is an annual event that takes place at Dr. I. Sylvester Hankins Park featuring art exhibits\, food\, and games.
URL:http://heyfla.com/event/paad-cultural-festival-of-light-at-hankins-park-mothers-day-weekend/
LOCATION:Hankins Park\, 1340 Lake Park Court\, Orlando\, FL\, 32805\, United States
CATEGORIES:festival
END:VEVENT
BEGIN:VEVENT
DTSTART;TZID=America/Halifax:20130509T110000
DTEND;TZID=America/Halifax:20130509T173000
DTSTAMP:20260423T175905
CREATED:20130405T044449Z
LAST-MODIFIED:20130405T044449Z
UID:5161-1368097200-1368120600@heyfla.com
SUMMARY:26th Annual Rotary Golf Tournament
DESCRIPTION:The Rotary Club of Boca Raton Sunrise and the Rotary Club Downtown Boca Raton have joined forces to honor Dr. Ira J. Gelb at the 26th Annual Rotary Golf Tournament May 9\, 2013 at Boca Lago Country Club. The event will raise funds to benefit the Charles E. Schmidt College of Medicine at Florida Atlantic University as well as local college undergraduate scholarships. \nA golf clinic by Bruce Fleisher will be held from 11:15-11:45 a.m.
URL:http://heyfla.com/event/26th-annual-rotary-golf-tournament/
LOCATION:Boca Largo Country Club\, Boca Raton\, FL\, United States
CATEGORIES:sporting events
ATTACH;FMTTYPE=image/jpeg:http://heyfla.com/wp-content/uploads/2013/04/GolfSTD4-1-e1365140448173.jpg
ORGANIZER;CN="Rotary Club Downtown Boca Raton":MAILTO:events@thefreuds.com
END:VEVENT
BEGIN:VEVENT
DTSTART;TZID=America/Halifax:20130409T200000
DTEND;TZID=America/Halifax:20130411T020000
DTSTAMP:20260423T175905
CREATED:20130317T025620Z
LAST-MODIFIED:20130410T102245Z
UID:5139-1365537600-1365645600@heyfla.com
SUMMARY:Orlando Fashion Week 2013
DESCRIPTION:Orlando Fashion Week 2013\nCheck our interview with Tina Rodriguez\, Co-Founder of Orlando Fashion Week.  Watch to find out what you can expect at this year’s event.
URL:http://heyfla.com/event/orlando-fashion-week-2013/
LOCATION:The Abbey\, 100 S Eola Dr #100\, Orlando\, FL\, 32801\, United States
CATEGORIES:Fashion
ORGANIZER;CN="Orlando Fashion Week LLC":MAILTO:orlandofashionweek@yahoo.com
END:VEVENT
BEGIN:VEVENT
DTSTART;TZID=America/Halifax:20130406T030000
DTEND;TZID=America/Halifax:20130406T220000
DTSTAMP:20260423T175905
CREATED:20130301T161915Z
LAST-MODIFIED:20130301T161915Z
UID:5111-1365217200-1365285600@heyfla.com
SUMMARY:Funk Fest Orlando
DESCRIPTION:Funk Fest 2013 Returns to Orlando With Some Old School Flavor\nThe 2013 Funk Fest® music series marks the 19th anniversary of the festival which began as a small concert in an outdoor venue in Mobile\, Alabama. Each year\, Funk Fest® attracts music enthusiasts from all 50 states to its specially-selected venues and adds significant tourism revenue to each city’s local economy.  This marks the second year the outdoor concert is being held in Orlando\, FL  featuring national recording artists Anthony Hamilton\, Bell Biv Devoe\, Dru Hill & El Debarge.  For more information or to purchase tickets just follow this link
URL:http://heyfla.com/event/funk-fest-orlando/
LOCATION:Tinker Field\, 1610 West Church Street\, Orlando\, 32805\, United States
CATEGORIES:concerts
ATTACH;FMTTYPE=image/png:http://heyfla.com/wp-content/uploads/2013/03/funkfest_logo.png
ORGANIZER;CN="Variety Entertainment":MAILTO:info@funkfestconcerts.com
END:VEVENT
BEGIN:VEVENT
DTSTART;TZID=America/Halifax:20130327T100000
DTEND;TZID=America/Halifax:20130327T140000
DTSTAMP:20260423T175905
CREATED:20130301T170731Z
LAST-MODIFIED:20130301T170731Z
UID:5117-1364378400-1364392800@heyfla.com
SUMMARY:Spring Fling Job Fair
DESCRIPTION:The Second Annual Spring Fling Job Fair\ntakes place on March 27 from 10 a.m. to 2 p.m. at Central Florida‘s Citrus Learning and Conference Center\,located at 3800 S. Lecanto Highway\, Lecanto. – For more details about this event visit WorkforceCLM online.  Workforce Connection is the local\, business-led organization that plans and coordinates quality employment and training services for businesses and individual career seekers in Citrus\, Levy and Marion Counties of Florida.
URL:http://heyfla.com/event/spring-fling-job-fair/
LOCATION:Central Florida Citrus Learning and Conference Center\, 3800 S. Lecanto Highway\, Lecanto\, FL\, United States
CATEGORIES:job fairs
ORGANIZER;CN="Workforce Connection CLM":MAILTO:contactus@clmworkforce.com
END:VEVENT
BEGIN:VEVENT
DTSTART;TZID=America/Halifax:20130310T130500
DTEND;TZID=America/Halifax:20130310T160000
DTSTAMP:20260423T175905
CREATED:20130114T031048Z
LAST-MODIFIED:20130114T031048Z
UID:5095-1362920700-1362931200@heyfla.com
SUMMARY:Atlanta Braves vs Miami Marlins
DESCRIPTION:Atlanta Braves vs Miami Marlins
URL:http://heyfla.com/event/atlanta-braves-vs-miami-marlins-2/
LOCATION:Champion Stadium at ESPN Wide World of Sports\, 700 S Victory Way\, Kissimmee\, FL\, 34747\, United States
CATEGORIES:sporting events
END:VEVENT
BEGIN:VEVENT
DTSTART;TZID=America/Halifax:20130309T160000
DTEND;TZID=America/Halifax:20130309T220000
DTSTAMP:20260423T175905
CREATED:20130305T042149Z
LAST-MODIFIED:20130305T042149Z
UID:5124-1362844800-1362866400@heyfla.com
SUMMARY:Seventh Annual Blues B-Q
DESCRIPTION:Seventh Annual Blues-B-Q
URL:http://heyfla.com/event/seventh-annual-blues-b-q/
LOCATION:Orange County Courthouse\, 425 N. Orange Avenue\, Orlando\, FL\, 32801\, United States
CATEGORIES:concerts
END:VEVENT
BEGIN:VEVENT
DTSTART;TZID=America/Halifax:20130228T100000
DTEND;TZID=America/Halifax:20130310T220000
DTSTAMP:20260423T175905
CREATED:20121114T132442Z
LAST-MODIFIED:20130112T060433Z
UID:4928-1362045600-1362952800@heyfla.com
SUMMARY:Florida Strawberry Festival
DESCRIPTION:  \nThe Florida Strawberry Festival is a favorite of young and old alike and this year it’s sure to be a “Masterpiece of Fun”.   Each spring\, the Florida Strawberry Festival® rolls out the red carpet to welcome visitors from throughout the Sunshine State and the world.  It transforms into strawberry heaven for two weeks.  Full of live performances\, activities\, rides\, crafts and of course strawberries. \nCourtesy of Anna Norris Photography
URL:http://heyfla.com/event/florida-strawberry-festival/
LOCATION:Florida Strawberry Festival\, N. Lemon Street\, Plant City\, FL\, 33563-4706\, United States
CATEGORIES:festival
ATTACH;FMTTYPE=image/gif:http://heyfla.com/wp-content/uploads/2012/11/strawberry-festival-logo.gif
ORGANIZER;CN="Florida Strawberry Festival":MAILTO:berryinfo@flstrawberryfestival.com
END:VEVENT
END:VCALENDAR