BEGIN:VCALENDAR
VERSION:2.0
PRODID:-//HeyFla - ECPv6.15.20//NONSGML v1.0//EN
CALSCALE:GREGORIAN
METHOD:PUBLISH
X-WR-CALNAME:HeyFla
X-ORIGINAL-URL:http://heyfla.com
X-WR-CALDESC:Events for HeyFla
REFRESH-INTERVAL;VALUE=DURATION:PT1H
X-Robots-Tag:noindex
X-PUBLISHED-TTL:PT1H
BEGIN:VTIMEZONE
TZID:America/Halifax
BEGIN:DAYLIGHT
TZOFFSETFROM:-0400
TZOFFSETTO:-0300
TZNAME:ADT
DTSTART:20120311T060000
END:DAYLIGHT
BEGIN:STANDARD
TZOFFSETFROM:-0300
TZOFFSETTO:-0400
TZNAME:AST
DTSTART:20121104T050000
END:STANDARD
BEGIN:DAYLIGHT
TZOFFSETFROM:-0400
TZOFFSETTO:-0300
TZNAME:ADT
DTSTART:20130310T060000
END:DAYLIGHT
BEGIN:STANDARD
TZOFFSETFROM:-0300
TZOFFSETTO:-0400
TZNAME:AST
DTSTART:20131103T050000
END:STANDARD
BEGIN:DAYLIGHT
TZOFFSETFROM:-0400
TZOFFSETTO:-0300
TZNAME:ADT
DTSTART:20140309T060000
END:DAYLIGHT
BEGIN:STANDARD
TZOFFSETFROM:-0300
TZOFFSETTO:-0400
TZNAME:AST
DTSTART:20141102T050000
END:STANDARD
BEGIN:DAYLIGHT
TZOFFSETFROM:-0400
TZOFFSETTO:-0300
TZNAME:ADT
DTSTART:20150308T060000
END:DAYLIGHT
BEGIN:STANDARD
TZOFFSETFROM:-0300
TZOFFSETTO:-0400
TZNAME:AST
DTSTART:20151101T050000
END:STANDARD
END:VTIMEZONE
BEGIN:VEVENT
DTSTART;TZID=America/Halifax:20130914T200000
DTEND;TZID=America/Halifax:20130914T230000
DTSTAMP:20260423T082122
CREATED:20130802T125534Z
LAST-MODIFIED:20130802T130950Z
UID:5249-1379188800-1379199600@heyfla.com
SUMMARY:What Dreams May Come Tour
DESCRIPTION:J. Cole: What Dreams May Come Tour\nThe final stop in Florida before heading to Augusta\, GA.  The What Dreams May Come Tour stops in Jacksonville for a peformance at the Moran Theater. \nCheck out our calendar for information on more events in Florida
URL:http://heyfla.com/event/what-dreams-may-come-tour/
LOCATION:Times Union Center for the Performing Arts Moran Theater\, 300 West Water Street\, Jacksonville\, FL\, 32202\, United States
CATEGORIES:concerts
ATTACH;FMTTYPE=image/jpeg:http://heyfla.com/wp-content/uploads/2013/08/JCOLE-ROC-NATION.jpg
END:VEVENT
BEGIN:VEVENT
DTSTART;TZID=America/Halifax:20130915T160500
DTEND;TZID=America/Halifax:20130915T180000
DTSTAMP:20260423T082122
CREATED:20130620T190308Z
LAST-MODIFIED:20130620T190308Z
UID:5198-1379261100-1379268000@heyfla.com
SUMMARY:Tampa Bay Buccaneers vs. New Orleans Saints
DESCRIPTION:Tampa Bay Buccaneers vs. New Orleans Saints\n 
URL:http://heyfla.com/event/tampa-bay-buccaneers-vs-new-orleans-saints/
LOCATION:Raymond James Stadium\, 4201 North Dale Mabry Highway\, Tampa Bay\, FL\, 33607\, United States
CATEGORIES:sporting events
ATTACH;FMTTYPE=image/jpeg:http://heyfla.com/wp-content/uploads/2013/06/bucs-logo.jpg
END:VEVENT
BEGIN:VEVENT
DTSTART;TZID=America/Halifax:20131005T110000
DTEND;TZID=America/Halifax:20131005T220000
DTSTAMP:20260423T082122
CREATED:20131003T194622Z
LAST-MODIFIED:20131003T194622Z
UID:5263-1380970800-1381010400@heyfla.com
SUMMARY:Harbor Sounds Music Fest on Main
DESCRIPTION:Come hear the live music that will be featured on Main Street stages throughout the day and evening. Browse among the craft vendors and shops.
URL:http://heyfla.com/event/harbor-sounds-music-fest-main/
LOCATION:Main Street\, Safety Harbor \, FL\, United States
CATEGORIES:festival
END:VEVENT
BEGIN:VEVENT
DTSTART;TZID=America/Halifax:20131011T170000
DTEND;TZID=America/Halifax:20131012T220000
DTSTAMP:20260423T082122
CREATED:20131003T201130Z
LAST-MODIFIED:20131003T201441Z
UID:5266-1381510800-1381615200@heyfla.com
SUMMARY:Oktoberfest - Avalon Park Downtown East Orlando
DESCRIPTION:
URL:http://heyfla.com/event/oktoberfest-avalon-park-downtown-east-orlando/
LOCATION:Avalon Park Downtown East Orlando\, Orlando\, FL\, 32828\, United States
CATEGORIES:festival
END:VEVENT
BEGIN:VEVENT
DTSTART;TZID=America/Halifax:20131027T103000
DTEND;TZID=America/Halifax:20131027T150000
DTSTAMP:20260423T082122
CREATED:20131021T153150Z
LAST-MODIFIED:20131021T154037Z
UID:5274-1382869800-1382886000@heyfla.com
SUMMARY:Kirk Franklin presents Gospel Brunch
DESCRIPTION:Grammy Award winning star Kirk Franklin is joining forces with House of Blues as part of its year-long 20th Anniversary Celebration to produce a dazzling transformation of Gospel Brunch\, the clubs legendary dining and live music show. With Kirk Franklins hand-picked performers showcasing explosive energy\, contemporary music and spectacular new cuisine\, it’s an unforgettable spectacle of great tunes and tastes. A portion of the proceeds will be donated to the IHOBF\, providing arts and music support to underserved youth. For more information on how your proceeds are being used\, please www.IHOBF.org. \n  \nEvent takes place at 10:30am and 1:00pm Sunday October 27th\, 2013.
URL:http://heyfla.com/event/kirk-franklin-presents-gospel-brunch/
LOCATION:House of Blues Orlando\, 1490 E. Buena Vista Dr.\, Lake Buena\, FL\, 32830\, United States
CATEGORIES:concerts
ATTACH;FMTTYPE=image/jpeg:http://heyfla.com/wp-content/uploads/2013/10/event_78819.jpg
END:VEVENT
BEGIN:VEVENT
DTSTART;TZID=America/Halifax:20131116T100000
DTEND;TZID=America/Halifax:20131116T150000
DTSTAMP:20260423T082122
CREATED:20131105T213013Z
LAST-MODIFIED:20131105T213013Z
UID:5287-1384596000-1384614000@heyfla.com
SUMMARY:Mayor Jacob's Fall Festival: Battle of the Bands
DESCRIPTION:Orange County Mayor Theresa Jacob will host the 1st annual Employee Fall Festival November 16th at Barnett Park in Orlando\, FL.
URL:http://heyfla.com/event/mayor-jacobs-fall-festival-battle-bands/
LOCATION:Barnett Park\, 4801 W Colonial Dr.\, Orlando\, FL\, 32808\, United States
CATEGORIES:festival
END:VEVENT
BEGIN:VEVENT
DTSTART;TZID=America/Halifax:20140314T160000
DTEND;TZID=America/Halifax:20140316T220000
DTSTAMP:20260423T082122
CREATED:20131003T192725Z
LAST-MODIFIED:20131003T192959Z
UID:5260-1394812800-1395007200@heyfla.com
SUMMARY:9th Annual Jazz in the Gardens
DESCRIPTION:
URL:http://heyfla.com/event/9th-annual-jazz-gardens/
LOCATION:Sun Life Stadium\, 2269 NW 199th St\, Miami Gardens\, FL\, 33056\, United States
CATEGORIES:festival
ORGANIZER;CN="City of Miami Gardens":MAILTO:ula@jazzinthegardens.com
END:VEVENT
BEGIN:VEVENT
DTSTART;TZID=America/Halifax:20140419T193500
DTEND;TZID=America/Halifax:20140419T210000
DTSTAMP:20260423T082122
CREATED:20140419T172622Z
LAST-MODIFIED:20140419T173318Z
UID:5330-1397936100-1397941200@heyfla.com
SUMMARY:Orlando Predators vs. Tampa Bay Storm
DESCRIPTION:Orlando Predators vs. Tampa Bay Storm\nArena Football at CFE Arena. Are you going to the game? \n 
URL:http://heyfla.com/event/orlando-predators-vs-tampa-bay-storm/
LOCATION:CFE Arena\, 2777 Gemini Blvd\, Orlando\, FL\, 32816\, United States
CATEGORIES:sporting events
ATTACH;FMTTYPE=image/png:http://heyfla.com/wp-content/uploads/2014/04/predatorprimary.5.0.pc_.png
END:VEVENT
BEGIN:VEVENT
DTSTART;TZID=America/Halifax:20140420T200000
DTEND;TZID=America/Halifax:20140420T230000
DTSTAMP:20260423T082122
CREATED:20140419T174741Z
LAST-MODIFIED:20140419T182208Z
UID:5333-1398024000-1398034800@heyfla.com
SUMMARY:Kendrick Lamar
DESCRIPTION:Kendrick Lamar in Concert\n \nTickets on sale now. Still seats left
URL:http://heyfla.com/event/kendrick-lamar/
LOCATION:CFE Arena\, 2777 Gemini Blvd\, Orlando\, FL\, 32816\, United States
CATEGORIES:concerts
ATTACH;FMTTYPE=image/jpeg:http://heyfla.com/wp-content/uploads/2014/04/1194669-Kendrick-Lamar-617x409-2.jpg
END:VEVENT
BEGIN:VEVENT
DTSTART;TZID=America/Halifax:20140424T190000
DTEND;TZID=America/Halifax:20140424T233000
DTSTAMP:20260423T082122
CREATED:20140419T183856Z
LAST-MODIFIED:20140419T183856Z
UID:5341-1398366000-1398382200@heyfla.com
SUMMARY:Darius Rucker: True Believers Tour
DESCRIPTION:Darius Rucker: True Believer’s Tour\nSee Darius Rucker at the CFE Arena April 24 along with the Eli Young Band & Corey Smith \n \nCheck out more Florida dates here
URL:http://heyfla.com/event/darius-rucker-in-orlando/
LOCATION:CFE Arena\, 2777 Gemini Blvd\, Orlando\, FL\, 32816\, United States
CATEGORIES:concerts
ATTACH;FMTTYPE=image/jpeg:http://heyfla.com/wp-content/uploads/2014/04/Darius-Rucker-Eli-Young-Band-Site-Banner.jpg
END:VEVENT
BEGIN:VEVENT
DTSTART;TZID=America/Halifax:20140425T070000
DTEND;TZID=America/Halifax:20140425T233000
DTSTAMP:20260423T082122
CREATED:20140419T185504Z
LAST-MODIFIED:20140419T192321Z
UID:5343-1398409200-1398468600@heyfla.com
SUMMARY:Darius Rucker: True Believers Tour
DESCRIPTION:Darius Rucker: True Believers Tour\nSee Darius Rucker at the Donald L. Tucker Civic Center April 25th along with the Eli Young Band & Corey Smith \n \nCheck out more Florida dates here
URL:http://heyfla.com/event/darius-rucker-in-tallahassee/
LOCATION:Donald L. Tucker Civic Center\, 505 W Pensacola Street\, Tallahassee\, FL\, 32302\, United States
CATEGORIES:concerts
ATTACH;FMTTYPE=image/jpeg:http://heyfla.com/wp-content/uploads/2014/04/Darius-Rucker-Eli-Young-Band-Site-Banner.jpg
END:VEVENT
BEGIN:VEVENT
DTSTART;TZID=America/Halifax:20140427T120000
DTEND;TZID=America/Halifax:20140427T190000
DTSTAMP:20260423T082122
CREATED:20140418T231455Z
LAST-MODIFIED:20140418T231654Z
UID:5322-1398600000-1398625200@heyfla.com
SUMMARY:Caribbean Fusion Festival
DESCRIPTION:The Caribbean and Floridian Association\, Inc. (CAFA) will be hosting the 20th Annual Caribbean Fusion on Sunday\, April 27\, 2014 at the Kissimmee Lakefront Park.  Festivities kick off at noon. Food\, games\, live music\, and much more.
URL:http://heyfla.com/event/caribbean-fusion-festival/
LOCATION:Kissimmee Lakefront Park\, 320 E. Monument Avenue\, Kissimmee\, FL\, 34741\, United States
ATTACH;FMTTYPE=image/png:http://heyfla.com/wp-content/uploads/2014/04/cafabillboardfinal.png
END:VEVENT
BEGIN:VEVENT
DTSTART;TZID=America/Halifax:20140428T080000
DTEND;TZID=America/Halifax:20140428T220000
DTSTAMP:20260423T082122
CREATED:20140422T184110Z
LAST-MODIFIED:20140419T230604Z
UID:5352-1398672000-1398722400@heyfla.com
SUMMARY:Lana Del Rey
DESCRIPTION:Lana Del Rey at Hard Rock Live Orlando\nIn concert\, April 28\, 2014 at Hard Rock Live! Orlando is sultry songstress Lana Del Rey. Check out the video for her latest single West Coast
URL:http://heyfla.com/event/lana-del-rey/
LOCATION:Hard Rock Live Orlando\, 6050 Universal Blvd\, Orlando\, FL\, 32819\, United States
CATEGORIES:Live Music
ATTACH;FMTTYPE=image/jpeg:http://heyfla.com/wp-content/uploads/2014/04/lanadelrey.jpeg
END:VEVENT
BEGIN:VEVENT
DTSTART;TZID=America/Halifax:20140510T190000
DTEND;TZID=America/Halifax:20140510T220000
DTSTAMP:20260423T082122
CREATED:20140421T165747Z
LAST-MODIFIED:20140419T171249Z
UID:5328-1399748400-1399759200@heyfla.com
SUMMARY:Katt Williams: Growth Spurt
DESCRIPTION:Katt Williams: Growth Spurt Comedy Tour\nTickets on sale now for the Orlando Show
URL:http://heyfla.com/event/katt-williams-growth-spurt/
LOCATION:CFE Arena\, 2777 Gemini Blvd\, Orlando\, FL\, 32816\, United States
CATEGORIES:Live Comedy
END:VEVENT
BEGIN:VEVENT
DTSTART;TZID=America/Halifax:20140513T080000
DTEND;TZID=America/Halifax:20140518T223000
DTSTAMP:20260423T082122
CREATED:20140419T223206Z
LAST-MODIFIED:20140419T224012Z
UID:5349-1399968000-1400452200@heyfla.com
SUMMARY:Ghost The Musical
DESCRIPTION:Ghost The Musical at Bob Car Performing Arts Centre this May. For more information or purchase tickets follow this link \n \n 
URL:http://heyfla.com/event/ghost-musical/
LOCATION:Bob Carr Performing Arts Centre\, 401 West Livingston Street\, Orlando\, FL\, 32801\, United States
CATEGORIES:Theater
ATTACH;FMTTYPE=image/jpeg:http://heyfla.com/wp-content/uploads/2014/04/ghost-musical.jpeg
END:VEVENT
BEGIN:VEVENT
DTSTART;TZID=America/Halifax:20140612T193000
DTEND;TZID=America/Halifax:20140612T233000
DTSTAMP:20260423T082122
CREATED:20140424T064753Z
LAST-MODIFIED:20140419T181312Z
UID:5335-1402601400-1402615800@heyfla.com
SUMMARY:The Beat Down 2014
DESCRIPTION:103.5 presents The Beat Down 2014\nfeaturing Kendrick Lamar\, Trey Songz\, Future\, DJ Khaled and more.
URL:http://heyfla.com/event/beat-2014/
LOCATION:BB&T Center\, 1 Panther Parkway\, Sunrise\, FL\, 33323\, United States
CATEGORIES:concerts
ATTACH;FMTTYPE=image/jpeg:http://heyfla.com/wp-content/uploads/2014/04/The-Beat-Down.jpg
END:VEVENT
BEGIN:VEVENT
DTSTART;TZID=America/Halifax:20140913T083000
DTEND;TZID=America/Halifax:20140913T140000
DTSTAMP:20260423T082122
CREATED:20140815T041736Z
LAST-MODIFIED:20140815T232136Z
UID:5376-1410597000-1410616800@heyfla.com
SUMMARY:What's My Anti Drug? Youth Summit
DESCRIPTION:12th Annual What’s My Anti-Drug? Youth Summit Present by Youth Central Connection
URL:http://heyfla.com/event/whats-anti-drug-youth-summit/
LOCATION:Carter Tabernacle CME\, 1 South Cottage Hill Rd\, Orlando\, FL\, 32805\, United States
CATEGORIES:Health & Wellness
ATTACH;FMTTYPE=image/jpeg:http://heyfla.com/wp-content/uploads/2014/08/YCC-WMyA-D.jpg
END:VEVENT
BEGIN:VEVENT
DTSTART;TZID=America/Halifax:20141114T190000
DTEND;TZID=America/Halifax:20141114T220000
DTSTAMP:20260423T082122
CREATED:20141114T151248Z
LAST-MODIFIED:20141114T151248Z
UID:5427-1415991600-1416002400@heyfla.com
SUMMARY:LeCrae in Concert - Anomaly Tour
DESCRIPTION:The Anomaly Tour with LeCrae & Special Guests Andy Mineo & DJ Promote
URL:http://heyfla.com/event/lecrae-concert-anomaly-tour/
LOCATION:The Filmore Miami Beach at The Jackie Gleason Theater\, 1700 Washington Avenue\, Miami Beach\, FL\, 33139\, United States
END:VEVENT
BEGIN:VEVENT
DTSTART;TZID=America/Halifax:20141115T190000
DTEND;TZID=America/Halifax:20141115T220000
DTSTAMP:20260423T082122
CREATED:20141114T154015Z
LAST-MODIFIED:20141114T154015Z
UID:5429-1416078000-1416088800@heyfla.com
SUMMARY:The Anomaly Tour Feat. Lecrae
DESCRIPTION:Kingdom Promotions and House of Blues Presents…\nThe Anomaly Tour Feat LeCrae
URL:http://heyfla.com/event/anomaly-tour-feat-lecrae/
LOCATION:House of Blues Orlando\, 1490 E. Buena Vista Dr.\, Lake Buena\, FL\, 32830\, United States
CATEGORIES:Live Music
ATTACH;FMTTYPE=image/jpeg:http://heyfla.com/wp-content/uploads/2014/11/images.jpg
END:VEVENT
BEGIN:VEVENT
DTSTART;TZID=America/Halifax:20141120T180000
DTEND;TZID=America/Halifax:20141120T220000
DTSTAMP:20260423T082122
CREATED:20141112T224736Z
LAST-MODIFIED:20141113T010420Z
UID:5415-1416506400-1416520800@heyfla.com
SUMMARY:A Dreamer's Paradise
DESCRIPTION:A Dreamer’s Paradise \n\n\nFlyer credit Jonae N. Corrado\n\n Come experience “A Dreamer’s Paradise” an art exhibit featuring the works of award-winning watercolor artist Heather Torres.
URL:http://heyfla.com/event/dreamers-paradise/
LOCATION:NV Art Bar\, 27 E Pine St\, Orlando\, FL\, 32801\, United States
END:VEVENT
BEGIN:VEVENT
DTSTART;TZID=America/Halifax:20141120T220000
DTEND;TZID=America/Halifax:20141121T020000
DTSTAMP:20260423T082122
CREATED:20141117T105505Z
LAST-MODIFIED:20141117T113514Z
UID:5444-1416520800-1416535200@heyfla.com
SUMMARY:[Classic Orlando] Thursday
DESCRIPTION:[Classic Orlando] Thursday\nR&B Opening Party at ONE80 Grey Goose Lounge atop the Amway Arena
URL:http://heyfla.com/event/classic-orlando-thursday/
LOCATION:One80 Grey Goose Lounge\, 400 W. Church St.\, Orlando\, FL\, 32801\, United States
CATEGORIES:Nightlife
ATTACH;FMTTYPE=image/jpeg:http://heyfla.com/wp-content/uploads/2014/11/One80-logo.jpg
END:VEVENT
BEGIN:VEVENT
DTSTART;TZID=America/Halifax:20141121T110000
DTEND;TZID=America/Halifax:20141121T150000
DTSTAMP:20260423T082122
CREATED:20141112T060921Z
LAST-MODIFIED:20141112T061626Z
UID:5404-1416567600-1416582000@heyfla.com
SUMMARY:Florida Blue Florida Classic Career Expo and Diversity Job Fair
DESCRIPTION:Florida Blue Florida Classic Career Expo and Diversity Job Fair\nThe Career Expo and Job Fair is geared to provide college students and working professionals of all ages with both education and opportunity. The event itself aims to stimulate hiring across Florida by offering attendees with an opportunity to meet and greet with top businesses and hiring companies throughout the state. Free professional development and employment search seminars will be offered as well featuring Recruiters and local career experts. Free Registration
URL:http://heyfla.com/event/florida-blue-florida-classic-career-expo-diversity-job-fair/
LOCATION:Amway Center\, 400 West Church Street\, Orlando\, FL\, 32801\, United States
CATEGORIES:job fairs
END:VEVENT
BEGIN:VEVENT
DTSTART;TZID=America/Halifax:20141121T113000
DTEND;TZID=America/Halifax:20141121T140000
DTSTAMP:20260423T082122
CREATED:20141112T055127Z
LAST-MODIFIED:20141112T055127Z
UID:5397-1416569400-1416578400@heyfla.com
SUMMARY:Florida Classic Consortium Kickoff Luncheon presented by Florida Blue
DESCRIPTION:Florida Classic Consortium Kickoff Luncheon presented by Florida Blue\nThe Classic weekend gets started with players\, pep bands\, university officials and student leaders gathering to celebrate the season\, preview the upcoming matchup and show that Rattlers and Wildcats remain divided on the field but united in the world.
URL:http://heyfla.com/event/florida-classic-consortium-kickoff-luncheon-presented-florida-blue/
LOCATION:Rosen Centre\, 9840 International Dr\, Orlando\, FL\, 32819\, United States
CATEGORIES:sporting events
END:VEVENT
BEGIN:VEVENT
DTSTART;TZID=America/Halifax:20141121T190000
DTEND;TZID=America/Halifax:20141121T230000
DTSTAMP:20260423T082122
CREATED:20141112T055911Z
LAST-MODIFIED:20141112T055911Z
UID:5402-1416596400-1416610800@heyfla.com
SUMMARY:Florida Blue Battle of the Bands
DESCRIPTION:The Florida Blue Battle of the Bands\nGet ready for crowd-pleasing dance teams\, high-stepping drum majors\, precision drumlines and roaring brass sections. Tickets available thru ticketmaster.
URL:http://heyfla.com/event/florida-blue-battle-bands/
LOCATION:Amway Center\, 400 West Church Street\, Orlando\, FL\, 32801\, United States
END:VEVENT
BEGIN:VEVENT
DTSTART;TZID=America/Halifax:20141121T210000
DTEND;TZID=America/Halifax:20141122T020000
DTSTAMP:20260423T082122
CREATED:20141112T173024Z
LAST-MODIFIED:20141112T175056Z
UID:5406-1416603600-1416621600@heyfla.com
SUMMARY:The Official Florida Classic Alumni Rooftop Party
DESCRIPTION:The Official Florida Classic “Premium” Alumni Rooftop Party\nat The Plaza Penthouse in Downtown Orlando\nFeaturing The Legendary music producer\, DJ\, and culture mover Mannie Fresh.  “The Mood Designer” Producer / Redbull Thre3style Champion / Master of the Mix Finalist\, DJ M-Squared plus “Mr. Consisitent” DJ Five Venoms\, one of the most talented DJs on the East Coast and DJ TL Smooth\, Central Florida’s next Big Name. \n 
URL:http://heyfla.com/event/official-florida-classic-premium-alumni-rooftop-party/
LOCATION:The Plaza Penthouse\, 121 S. Orange Avenue\, Orlando\, FL\, 32801\, United States
CATEGORIES:Nightlife
END:VEVENT
BEGIN:VEVENT
DTSTART;TZID=America/Halifax:20141121T210000
DTEND;TZID=America/Halifax:20141122T020000
DTSTAMP:20260423T082122
CREATED:20141113T210855Z
LAST-MODIFIED:20141113T212729Z
UID:5422-1416603600-1416621600@heyfla.com
SUMMARY:Tear the Roof Off Classic Kickoff Event
DESCRIPTION:Big Belly and Latitudes are offering two floors of partying\, people and entertainment that can’t be described any other way than “Classic”.  Come enjoy the sounds of DJ Donte and the Home Bass DJs\, with live performances from local artists on the rooftop at 9pm.
URL:http://heyfla.com/event/tear-roof-classic-kickoff-event/
LOCATION:Latitudes\, 33 W. Church Street\, Orlando\, FL\, 32801\, United States
END:VEVENT
BEGIN:VEVENT
DTSTART;TZID=America/Halifax:20141122T140000
DTEND;TZID=America/Halifax:20141122T170000
DTSTAMP:20260423T082122
CREATED:20141112T060616Z
LAST-MODIFIED:20141112T060716Z
UID:5403-1416664800-1416675600@heyfla.com
SUMMARY:Florida Blue Florida Classic 2014
DESCRIPTION:Florida Blue Florida Classic 2014\nTradition continues as rivals Florida A&M University and Bethune-Cookman University meet on the gridiron for the 35th time. \nFanfare begins at 9:00am.  (Free to ticket holders) Follow this link to purchase tickets.
URL:http://heyfla.com/event/florida-blue-florida-classic-2014/
LOCATION:Citrus Bowl\, 1610 West Church Street\, Orlando\, FL\, 32805\, United States
CATEGORIES:sporting events
END:VEVENT
BEGIN:VEVENT
DTSTART;TZID=America/Halifax:20141122T210000
DTEND;TZID=America/Halifax:20141123T020000
DTSTAMP:20260423T082122
CREATED:20141117T104402Z
LAST-MODIFIED:20141117T104402Z
UID:5440-1416690000-1416708000@heyfla.com
SUMMARY:The Official Ciroc Pineapple Post-Game Tropical Luxury Launch Party
DESCRIPTION:The Official Ciroc Pineapple Post-Game Tropical Luxury Launch Party\nMusic by Ciroc Boyz’ DJ Self (NYC) at Ember in the heart of Downtown Orlando
URL:http://heyfla.com/event/official-ciroc-pineapple-post-game-tropical-luxury-launch-party/
LOCATION:Ember\, 42 W. Central Blvd\, Orlando\, FL\, 32801\, United States
CATEGORIES:Nightlife
ATTACH;FMTTYPE=image/png:http://heyfla.com/wp-content/uploads/2014/11/ciroc_pineapple.png
END:VEVENT
BEGIN:VEVENT
DTSTART;TZID=America/Halifax:20141122T220000
DTEND;TZID=America/Halifax:20141122T220000
DTSTAMP:20260423T082122
CREATED:20141119T024112Z
LAST-MODIFIED:20141119T025955Z
UID:5426-1416693600-1416693600@heyfla.com
SUMMARY:The SET
DESCRIPTION:The SET Orlando Classic Adult Party at Harry Buffalo’s\nSounds provided by \nDJ Ghostrider\, DJ Tamera James\, DJ Emcee \nHosted by \nJohnnie Torrence\, Gene Dot\, Rodney Staten and Tony Maseratii
URL:http://heyfla.com/event/set/
LOCATION:Harry Buffalo’s\, 129 W. Church Street\, Orlando\, FL\, 32801\, United States
END:VEVENT
BEGIN:VEVENT
DTSTART;TZID=America/Halifax:20141122T220000
DTEND;TZID=America/Halifax:20141123T020000
DTSTAMP:20260423T082122
CREATED:20141117T102935Z
LAST-MODIFIED:20141117T102935Z
UID:5437-1416693600-1416708000@heyfla.com
SUMMARY:Grown Folk Classic Edition
DESCRIPTION:Grown Folk Classic Edition
URL:http://heyfla.com/event/grown-folk-classic-edition/
LOCATION:Dewey’s Indoor Golf & Sports Bar\, 7720 Turkey Lake Rd\, Orlando\, FL\, 32819\, United States
CATEGORIES:Nightlife
END:VEVENT
END:VCALENDAR